BEGIN:VCALENDAR
VERSION:2.0
PRODID:-//Mid Island Tai Chi - ECPv6.15.11//NONSGML v1.0//EN
CALSCALE:GREGORIAN
METHOD:PUBLISH
X-ORIGINAL-URL:https://midislandtaichi.org
X-WR-CALDESC:Events for Mid Island Tai Chi
REFRESH-INTERVAL;VALUE=DURATION:PT1H
X-Robots-Tag:noindex
X-PUBLISHED-TTL:PT1H
BEGIN:VTIMEZONE
TZID:America/Vancouver
BEGIN:DAYLIGHT
TZOFFSETFROM:-0800
TZOFFSETTO:-0700
TZNAME:PDT
DTSTART:20240310T100000
END:DAYLIGHT
BEGIN:STANDARD
TZOFFSETFROM:-0700
TZOFFSETTO:-0800
TZNAME:PST
DTSTART:20241103T090000
END:STANDARD
BEGIN:DAYLIGHT
TZOFFSETFROM:-0800
TZOFFSETTO:-0700
TZNAME:PDT
DTSTART:20250309T100000
END:DAYLIGHT
BEGIN:STANDARD
TZOFFSETFROM:-0700
TZOFFSETTO:-0800
TZNAME:PST
DTSTART:20251102T090000
END:STANDARD
BEGIN:DAYLIGHT
TZOFFSETFROM:-0800
TZOFFSETTO:-0700
TZNAME:PDT
DTSTART:20260308T100000
END:DAYLIGHT
BEGIN:STANDARD
TZOFFSETFROM:-0700
TZOFFSETTO:-0800
TZNAME:PST
DTSTART:20261101T090000
END:STANDARD
END:VTIMEZONE
BEGIN:VEVENT
DTSTART;TZID=America/Vancouver:20250426T093000
DTEND;TZID=America/Vancouver:20250426T120000
DTSTAMP:20260422T051229
CREATED:20231126T031852Z
LAST-MODIFIED:20250305T232327Z
UID:2599-1745659800-1745668800@midislandtaichi.org
SUMMARY:World Tai Chi & Qigong Day (Public Event) - Maffeo Sutton Park
DESCRIPTION:Mid Island Tai Chi Club is hosting World Tai Chi and Qigong Day (WTCQD) on Saturday\, April 26\, 2025\, 9:30am to noon\, at Maffeo Sutton Park in Nanaimo. This is a FREE event open to the public. \nAll Tai Chi and Qigong practitioners\, regardless of differences in styles and methods of practice\, are invited to gather together in solidarity\, and to be a part of this global Tai Chi “wave” on WTCQD – a day where we celebrate that we are connected by\, and all part of\, the web of life: One World. One Breath. \nHeld in over 80 nations on the last Saturday of April each year\, WTCQD begins with mass Tai Chi\, Qi Gong\, and Mind Body events in the earliest time zones of New Zealand\, and then spreads as the world turns\, 10am local time worldwide\, ending with final events in Hawaii. \nOur program plan is as follows: \n9:30am\nGather at Maffeo Sutton Park \n9:45am \nWelcome Remarks \n10:00am \nStart of Mass Tai Chi/108 moves \n10:15am onwards\nVarious outdoor demos and participation of Seated Tai Chi\, Tai Chi/24 moves\, Lok Hup Ba Fa\, Qi Gong\, Tai Chi Fan dance\, Sword dance\, and others (to be confirmed) – led by different clubs/individuals. \nNoon\nEnd of outdoor event \n  \n> For queries\, or to be informed of the detailed rundown as we get closer to the event\, email us at admin@midislandtaichi.org
URL:https://midislandtaichi.org/event/end-of-year-potluck-lunch/
LOCATION:Maffeo Sutton Park\, 100 Comox Road\, Nanaimo\, BC\, V9R 3H7\, Canada
END:VEVENT
BEGIN:VEVENT
DTSTART;TZID=America/Vancouver:20250426T120000
DTEND;TZID=America/Vancouver:20250426T143000
DTSTAMP:20260422T051229
CREATED:20240306T200222Z
LAST-MODIFIED:20250415T005655Z
UID:2732-1745668800-1745677800@midislandtaichi.org
SUMMARY:Tai Chi Workshop on World Tai Chi Day  - Bowen Park Auditorium
DESCRIPTION:In the spirit of celebrating World Tai Chi & Qigong Day\, we are organizing a FREE afternoon Tai Chi workshop\, facilitated by MITC instructors at Bowen Park Auditorium. This workshop follows the public morning event on the same day. It will cover the foundations of Tai Chi postures\, alignment\, and principles of movement\, to help students to improve their balance\, coordination\, flexibility\, strength\, and awareness. \nThe program plan is as follows: \n12:00pm – On-site Registration \n12:15pm – Hot Vegetarian Lunch (By donation) \nFollowed by workshop \n2:30pm – Workshop ends \nNote: This is a FREE workshop offered to students who practice standing and/or seated Tai Chi.  Minimum requirement is that you have completed a class covering the mini Tai Chi set (first 17 moves) or have attended a seated Tai Chi class. \n>> Lunch is by donation. MITC’s food cost is approx $20 per person; food prepared by Kim Key Restaurant. \nSpace is limited to 50 at this workshop.\n>> Course code 135817. Register with Nanaimo Parks and Recreation at 250 756-5200 or online HERE.
URL:https://midislandtaichi.org/event/foundations-of-tai-chi-workshop-on-world-tai-chi-day/
LOCATION:Bowen Park Auditorium\, 500 Bowen Road\, Nanaimo\, BC\, V9R 1Z7\, Canada
END:VEVENT
END:VCALENDAR