BEGIN:VCALENDAR
VERSION:2.0
PRODID:-//Mid Island Tai Chi - ECPv6.15.11//NONSGML v1.0//EN
CALSCALE:GREGORIAN
METHOD:PUBLISH
X-ORIGINAL-URL:https://midislandtaichi.org
X-WR-CALDESC:Events for Mid Island Tai Chi
REFRESH-INTERVAL;VALUE=DURATION:PT1H
X-Robots-Tag:noindex
X-PUBLISHED-TTL:PT1H
BEGIN:VTIMEZONE
TZID:America/Vancouver
BEGIN:DAYLIGHT
TZOFFSETFROM:-0800
TZOFFSETTO:-0700
TZNAME:PDT
DTSTART:20230312T100000
END:DAYLIGHT
BEGIN:STANDARD
TZOFFSETFROM:-0700
TZOFFSETTO:-0800
TZNAME:PST
DTSTART:20231105T090000
END:STANDARD
BEGIN:DAYLIGHT
TZOFFSETFROM:-0800
TZOFFSETTO:-0700
TZNAME:PDT
DTSTART:20240310T100000
END:DAYLIGHT
BEGIN:STANDARD
TZOFFSETFROM:-0700
TZOFFSETTO:-0800
TZNAME:PST
DTSTART:20241103T090000
END:STANDARD
BEGIN:DAYLIGHT
TZOFFSETFROM:-0800
TZOFFSETTO:-0700
TZNAME:PDT
DTSTART:20250309T100000
END:DAYLIGHT
BEGIN:STANDARD
TZOFFSETFROM:-0700
TZOFFSETTO:-0800
TZNAME:PST
DTSTART:20251102T090000
END:STANDARD
END:VTIMEZONE
BEGIN:VEVENT
DTSTART;TZID=America/Vancouver:20240703T190000
DTEND;TZID=America/Vancouver:20240703T203000
DTSTAMP:20260422T163901
CREATED:20231015T234834Z
LAST-MODIFIED:20240821T011045Z
UID:2459-1720033200-1720038600@midislandtaichi.org
SUMMARY:Outdoor Practice - Maffeo Sutton Park
DESCRIPTION:MITC is holding instructor-led outdoor Tai Chi — throughout the summer in July and Aug — so that you can keep up your practice. By donation. \n 
URL:https://midislandtaichi.org/event/outdoor-practice-maffeo-sutton-park-3/
LOCATION:Maffeo Sutton Park\, 100 Comox Road\, Nanaimo\, BC\, V9R 3H7\, Canada
END:VEVENT
END:VCALENDAR